BEGIN:VCALENDAR
VERSION:2.0
PRODID:-//Sabre//Sabre VObject 4.5.8//EN
CALSCALE:GREGORIAN
BEGIN:VEVENT
UID:sabre-vobject-2369b92e-f3d6-4f81-a46e-433ada07b454
DTSTAMP:20260425T224456Z
SUMMARY:Super Heroes vs Villians Family Costume Ball
DESCRIPTION:
X-ALT-DESC:FMTTYPE=text/html:<!DOCTYPE HTML PUBLIC "-//W3C//DTD HTML 3.2//E
 N"><HTML></HTML>
CREATED;TZID=America/New_York:20180319T151224
URL;VALUE=URI:https://miami.armymwr.com/calendar/event
DTSTART;TZID=America/New_York:20180421T180000
DTEND;TZID=America/New_York:20180421T220000
SEQUENCE:0
END:VEVENT
END:VCALENDAR
