BEGIN:VCALENDAR
VERSION:2.0
PRODID:-//Sabre//Sabre VObject 4.5.8//EN
CALSCALE:GREGORIAN
BEGIN:VEVENT
UID:sabre-vobject-0bea2ccf-80c9-4c21-818b-997a557ce12b
DTSTAMP:20260425T114320Z
SUMMARY:ARMY STRONG  B.A.N.D.S
DESCRIPTION:
X-ALT-DESC:FMTTYPE=text/html:<!DOCTYPE HTML PUBLIC "-//W3C//DTD HTML 3.2//E
 N"><HTML></HTML>
CREATED;TZID=America/New_York:20180518T153104
URL;VALUE=URI:https://miami.armymwr.com/calendar/event
DTSTART;TZID=America/New_York:20180501T000000
DTEND;TZID=America/New_York:20180531T235959
SEQUENCE:0
END:VEVENT
END:VCALENDAR
