BEGIN:VCALENDAR
VERSION:2.0
PRODID:-//Sabre//Sabre VObject 4.5.8//EN
CALSCALE:GREGORIAN
BEGIN:VEVENT
UID:sabre-vobject-d1c5130d-d608-4784-a045-c0afca48ec63
DTSTAMP:20260423T185402Z
SUMMARY:Army Birthday 5K Run
DESCRIPTION:
X-ALT-DESC:FMTTYPE=text/html:<!DOCTYPE HTML PUBLIC "-//W3C//DTD HTML 3.2//E
 N"><HTML></HTML>
CREATED;TZID=America/New_York:20180521T081544
URL;VALUE=URI:https://miami.armymwr.com/calendar/event
DTSTART;TZID=America/New_York:20180608T054500
DTEND;TZID=America/New_York:20180608T073000
SEQUENCE:0
END:VEVENT
END:VCALENDAR
