BEGIN:VCALENDAR
VERSION:2.0
PRODID:-//Sabre//Sabre VObject 4.5.8//EN
CALSCALE:GREGORIAN
BEGIN:VEVENT
UID:sabre-vobject-5bc40219-35c0-4be5-b41c-7a8717da5a6f
DTSTAMP:20260419T193136Z
SUMMARY:SPOUSE SYMPOSIUM
DESCRIPTION:
X-ALT-DESC:FMTTYPE=text/html:<!DOCTYPE HTML PUBLIC "-//W3C//DTD HTML 3.2//E
 N"><HTML></HTML>
CREATED;TZID=America/New_York:20180913T132443
URL;VALUE=URI:https://miami.armymwr.com/calendar/event
DTSTART;TZID=America/New_York:20181009T090000
DTEND;TZID=America/New_York:20181009T130000
SEQUENCE:0
END:VEVENT
END:VCALENDAR
