BEGIN:VCALENDAR
VERSION:2.0
PRODID:-//Sabre//Sabre VObject 4.5.8//EN
CALSCALE:GREGORIAN
BEGIN:VEVENT
UID:sabre-vobject-50147f0a-3cef-4dbb-b271-f1b4ae295b51
DTSTAMP:20260419T154541Z
SUMMARY:Gold Star Mother's and Family Day
DESCRIPTION:
X-ALT-DESC:FMTTYPE=text/html:<!DOCTYPE HTML PUBLIC "-//W3C//DTD HTML 3.2//E
 N"><HTML></HTML>
CREATED;TZID=America/New_York:20180913T154247
URL;VALUE=URI:https://miami.armymwr.com/calendar/event
DTSTART;TZID=America/New_York:20180927T000000
DTEND;TZID=America/New_York:20180927T235959
SEQUENCE:0
END:VEVENT
END:VCALENDAR
