BEGIN:VCALENDAR
VERSION:2.0
PRODID:-//Sabre//Sabre VObject 4.5.8//EN
CALSCALE:GREGORIAN
BEGIN:VEVENT
UID:sabre-vobject-c21c3525-170a-48fc-9c2c-7c77017ca259
DTSTAMP:20260420T103751Z
SUMMARY:Army Ten- Miler
DESCRIPTION:
X-ALT-DESC:FMTTYPE=text/html:<!DOCTYPE HTML PUBLIC "-//W3C//DTD HTML 3.2//E
 N"><HTML></HTML>
CREATED;TZID=America/New_York:20180913T154643
URL;VALUE=URI:https://miami.armymwr.com/calendar/event
DTSTART;TZID=America/New_York:20181007T000000
DTEND;TZID=America/New_York:20181007T235959
SEQUENCE:0
END:VEVENT
END:VCALENDAR
