BEGIN:VCALENDAR
VERSION:2.0
PRODID:-//Sabre//Sabre VObject 4.5.8//EN
CALSCALE:GREGORIAN
BEGIN:VEVENT
UID:sabre-vobject-d5df7781-9f2e-4dad-a502-a62e6f46db42
DTSTAMP:20260420T014618Z
SUMMARY:Summer Blowout
DESCRIPTION:Summer&#39\;s not over yet!\n
X-ALT-DESC:FMTTYPE=text/html:<!DOCTYPE HTML PUBLIC "-//W3C//DTD HTML 3.2//E
 N"><HTML><p>Summer&#39\;s not over yet!</p>\n</HTML>
CREATED;TZID=America/New_York:20240906T105546
URL;VALUE=URI:https://miami.armymwr.com/calendar/event
DTSTART;TZID=America/New_York:20240913T100000
DTEND;TZID=America/New_York:20240913T183000
SEQUENCE:0
END:VEVENT
END:VCALENDAR
